BEGIN:VCALENDAR
VERSION:2.0
PRODID:-//[STAGING] NYAUA.COM - TEST v002 - ECPv6.15.4//NONSGML v1.0//EN
CALSCALE:GREGORIAN
METHOD:PUBLISH
X-WR-CALNAME:[STAGING] NYAUA.COM - TEST v002
X-ORIGINAL-URL:https://staging.nyaua.com
X-WR-CALDESC:Events for [STAGING] NYAUA.COM - TEST v002
REFRESH-INTERVAL;VALUE=DURATION:PT1H
X-Robots-Tag:noindex
X-PUBLISHED-TTL:PT1H
BEGIN:VTIMEZONE
TZID:America/New_York
BEGIN:DAYLIGHT
TZOFFSETFROM:-0500
TZOFFSETTO:-0400
TZNAME:EDT
DTSTART:20140309T070000
END:DAYLIGHT
BEGIN:STANDARD
TZOFFSETFROM:-0400
TZOFFSETTO:-0500
TZNAME:EST
DTSTART:20141102T060000
END:STANDARD
BEGIN:DAYLIGHT
TZOFFSETFROM:-0500
TZOFFSETTO:-0400
TZNAME:EDT
DTSTART:20150308T070000
END:DAYLIGHT
BEGIN:STANDARD
TZOFFSETFROM:-0400
TZOFFSETTO:-0500
TZNAME:EST
DTSTART:20151101T060000
END:STANDARD
BEGIN:DAYLIGHT
TZOFFSETFROM:-0500
TZOFFSETTO:-0400
TZNAME:EDT
DTSTART:20160313T070000
END:DAYLIGHT
BEGIN:STANDARD
TZOFFSETFROM:-0400
TZOFFSETTO:-0500
TZNAME:EST
DTSTART:20161106T060000
END:STANDARD
BEGIN:DAYLIGHT
TZOFFSETFROM:-0500
TZOFFSETTO:-0400
TZNAME:EDT
DTSTART:20170312T070000
END:DAYLIGHT
BEGIN:STANDARD
TZOFFSETFROM:-0400
TZOFFSETTO:-0500
TZNAME:EST
DTSTART:20171105T060000
END:STANDARD
BEGIN:DAYLIGHT
TZOFFSETFROM:-0500
TZOFFSETTO:-0400
TZNAME:EDT
DTSTART:20180311T070000
END:DAYLIGHT
BEGIN:STANDARD
TZOFFSETFROM:-0400
TZOFFSETTO:-0500
TZNAME:EST
DTSTART:20181104T060000
END:STANDARD
BEGIN:DAYLIGHT
TZOFFSETFROM:-0500
TZOFFSETTO:-0400
TZNAME:EDT
DTSTART:20190310T070000
END:DAYLIGHT
BEGIN:STANDARD
TZOFFSETFROM:-0400
TZOFFSETTO:-0500
TZNAME:EST
DTSTART:20191103T060000
END:STANDARD
BEGIN:DAYLIGHT
TZOFFSETFROM:-0500
TZOFFSETTO:-0400
TZNAME:EDT
DTSTART:20200308T070000
END:DAYLIGHT
BEGIN:STANDARD
TZOFFSETFROM:-0400
TZOFFSETTO:-0500
TZNAME:EST
DTSTART:20201101T060000
END:STANDARD
BEGIN:DAYLIGHT
TZOFFSETFROM:-0500
TZOFFSETTO:-0400
TZNAME:EDT
DTSTART:20210314T070000
END:DAYLIGHT
BEGIN:STANDARD
TZOFFSETFROM:-0400
TZOFFSETTO:-0500
TZNAME:EST
DTSTART:20211107T060000
END:STANDARD
BEGIN:DAYLIGHT
TZOFFSETFROM:-0500
TZOFFSETTO:-0400
TZNAME:EDT
DTSTART:20220313T070000
END:DAYLIGHT
BEGIN:STANDARD
TZOFFSETFROM:-0400
TZOFFSETTO:-0500
TZNAME:EST
DTSTART:20221106T060000
END:STANDARD
BEGIN:DAYLIGHT
TZOFFSETFROM:-0500
TZOFFSETTO:-0400
TZNAME:EDT
DTSTART:20230312T070000
END:DAYLIGHT
BEGIN:STANDARD
TZOFFSETFROM:-0400
TZOFFSETTO:-0500
TZNAME:EST
DTSTART:20231105T060000
END:STANDARD
BEGIN:DAYLIGHT
TZOFFSETFROM:-0500
TZOFFSETTO:-0400
TZNAME:EDT
DTSTART:20240310T070000
END:DAYLIGHT
BEGIN:STANDARD
TZOFFSETFROM:-0400
TZOFFSETTO:-0500
TZNAME:EST
DTSTART:20241103T060000
END:STANDARD
BEGIN:DAYLIGHT
TZOFFSETFROM:-0500
TZOFFSETTO:-0400
TZNAME:EDT
DTSTART:20250309T070000
END:DAYLIGHT
BEGIN:STANDARD
TZOFFSETFROM:-0400
TZOFFSETTO:-0500
TZNAME:EST
DTSTART:20251102T060000
END:STANDARD
END:VTIMEZONE
BEGIN:VEVENT
DTSTART;TZID=America/New_York:20250312T180000
DTEND;TZID=America/New_York:20250312T203000
DTSTAMP:20260419T101400
CREATED:20240911T190114Z
LAST-MODIFIED:20241213T212605Z
UID:10000193-1741802400-1741811400@staging.nyaua.com
SUMMARY:Chief Resident's Debate 2025 Meeting
DESCRIPTION:THE NEW YORK SECTION\, AUA\, INC.\n\n\nJames Eastham\, M.D.\, President\nHossein Sadeghi-Nejad\, M.D.\, Secretary\n\n\n \nInvite you to attend\n\n\nTHE MICHAEL J. DROLLER\nCHIEF RESIDENTS’ DEBATE MEETING\nWEDNESDAY\, MARCH 12TH\, 2025\n6:00pm – 9:00pm \n\n\nHeld at the New York Academy of Medicine\n1216 Fifth Avenue\, New York City\, NY 10029\n  \nDownload Chief Residents’ Debate Meeting Announcement  \n \n\n\n \n\n\n\nProgram Chair\nVannita Simma-Chiang\, MD\nAssociate Professor\, Dept. of Urology\nMount Sinai Health System\n\n\nJudge\nGary Lemack\, MD\nRose Mary Hagger Professorship\nDepartment of Urology\nUT Southwestern Medical Center\n\n\n \nReservations must be made prior to March 1st\, 2025. The cost is $100.00 per person. No refunds will be made after March 1st. 2025.   Please make checks payable to NYSAUA\, mail checks to The New York Section\, AUA\, 4100 Duff Place (Lower Level)\, Seaford\, NY 11783. For more information please call 516-520-1224. I strongly encourage registration via e-mail at Michele@nysaua.com
URL:https://staging.nyaua.com/event/chief-residents-debate-2025
LOCATION:New York Academy of Medicine\, 1216 5th Ave\, New York City\, NY\, 10029\, United States
CATEGORIES:Debate,Meeting
ORGANIZER;CN="New York Section%2C AUA":MAILTO:michele@nysaua.com
GEO:40.7918853;-73.9525805
X-APPLE-STRUCTURED-LOCATION;VALUE=URI;X-ADDRESS=New York Academy of Medicine 1216 5th Ave New York City NY 10029 United States;X-APPLE-RADIUS=500;X-TITLE=1216 5th Ave:geo:-73.9525805,40.7918853
END:VEVENT
BEGIN:VEVENT
DTSTART;TZID=America/New_York:20240306T180000
DTEND;TZID=America/New_York:20240306T203000
DTSTAMP:20260419T101400
CREATED:20240215T024132Z
LAST-MODIFIED:20240215T035351Z
UID:10000191-1709748000-1709757000@staging.nyaua.com
SUMMARY:Chief Resident's Debate 2024 Meeting
DESCRIPTION:THE NEW YORK SECTION\, AUA\, INC.\n\n\nJames Eastham\, M.D.\, President\nHossein Sadeghi-Nejad\, M.D.\, Secretary\n\n\n \nInvite you to attend\n\n\nTHE MICHAEL J. DROLLER\nCHIEF RESIDENTS’ DEBATE MEETING\nWEDNESDAY\, MARCH 6TH\, 2024\n6:00pm – 8:00pm \n\n\nHeld at the New York Academy of Medicine\n1216 Fifth Avenue\, New York City\, NY 10029\n  \nDownload Chief Residents’ Debate Meeting Announcement  \nDownload Chief Residents’ Debate Meeting Program  \n\n\n \nProgram Chair\nAaron Katz\, MD\nProfessor and Chair of Urology\nNYU Long Island School of Medicine\n \n\nJudge\nA. Ari Hakimi\, M.D.\nDepartment of Urology\nMemorial Sloan Kettering Cancer Ctr.\n\n\n \nReservations must be made prior to March 1st\, 2024.  The cost is $100.00 per person. No refunds will be made after March 1st. 2024.   Please make checks payable to NYSAUA\, mail checks to The New York Section\, AUA\, 4100 Duff Place (Lower Level)\, Seaford\, NY 11783. For more information please call 516-520-1224.  I strongly encourage registration via e-mail at Michele@nysaua.com
URL:https://staging.nyaua.com/event/chief-residents-debate-2024
LOCATION:New York Academy of Medicine\, 1216 5th Ave\, New York City\, NY\, 10029\, United States
CATEGORIES:Debate,Meeting
ORGANIZER;CN="New York Section%2C AUA":MAILTO:michele@nysaua.com
GEO:40.7918853;-73.9525805
X-APPLE-STRUCTURED-LOCATION;VALUE=URI;X-ADDRESS=New York Academy of Medicine 1216 5th Ave New York City NY 10029 United States;X-APPLE-RADIUS=500;X-TITLE=1216 5th Ave:geo:-73.9525805,40.7918853
END:VEVENT
BEGIN:VEVENT
DTSTART;TZID=America/New_York:20230308T183000
DTEND;TZID=America/New_York:20230308T230000
DTSTAMP:20260419T101400
CREATED:20221223T001048Z
LAST-MODIFIED:20221223T002010Z
UID:10000156-1678300200-1678316400@staging.nyaua.com
SUMMARY:Chief Resident's Debate 2023
DESCRIPTION:THE NEW YORK SECTION\, AUA\, INC.\n\n\nLane S. Palmer\, M.D.\, President\nPeter N. Schlegel\, M.D.\, Secretary\n\n\nTHE MICHAEL J. DROLLER\nCHIEF RESIDENTS’ DEBATE MEETING\nWEDNESDAY\, MARCH 8TH\, 2023\n6:30PM \n\n\nAt the New York Academy of Medicine\n1216 Fifth Avenue\, New York City\, NY 10029\n\n\nProgram Chair\nAndrew Winer\, MD\nAssociate Professor of Urology\nSUNY Downstate Medical Center\nJudge\nSoroush Rais-Bahrami\, M.D.\nAssociate Professor of Urology and Radiology\nUniversity of Alabama at Birmingham\n\n 
URL:https://staging.nyaua.com/event/chief-residents-debate-2023
LOCATION:New York Academy of Medicine\, 1216 5th Ave\, New York City\, NY\, 10029\, United States
CATEGORIES:Debate,Meeting
ORGANIZER;CN="New York Section%2C AUA":MAILTO:michele@nysaua.com
GEO:40.7918853;-73.9525805
X-APPLE-STRUCTURED-LOCATION;VALUE=URI;X-ADDRESS=New York Academy of Medicine 1216 5th Ave New York City NY 10029 United States;X-APPLE-RADIUS=500;X-TITLE=1216 5th Ave:geo:-73.9525805,40.7918853
END:VEVENT
BEGIN:VEVENT
DTSTART;TZID=America/New_York:20210310T183000
DTEND;TZID=America/New_York:20210310T203000
DTSTAMP:20260419T101400
CREATED:20210118T014653Z
LAST-MODIFIED:20210224T174432Z
UID:10000034-1615401000-1615408200@staging.nyaua.com
SUMMARY:THE MICHAEL J. DROLLER  CHIEF RESIDENTS'  DEBATE MEETING
DESCRIPTION:The New York Section\, AUA\, Inc.\nLouis R. Kavoussi\, M.D.\, President\nPeter Schlegel\, M.D.\, Secretary\nSAVE THE DATE\nWednesday\, March 10th\, 2021\n6:30pm – 8:30pm\n\nCLICK HERE TO ATTEND\n(https://www.newyorksectionaua-events.com) \n \n\n\n\n\n\n\n\nJudge\nLi-Ming Su\, M.D.\nDavid A. Cofrin Professor Urologic Oncology\nChairman\, Depeartment of Urology\nUniversity of Florida\nGainesville\, Florida\nProgram Chair\nJessica E. Kreshover\, M.D.\nAssociate Professor\nZucker School of Medicine\,\nHofstra/Northwell\nChief of Urology\nLong Island Jewish Hospital\nAssociate Program Director\nUrology Residency Program\n\n\n\n  \nNew York Section\, AUA would like to thank the following corporate sponsors.
URL:https://staging.nyaua.com/event/2021-chief-residents-debate
LOCATION:NY
CATEGORIES:Debate
ATTACH;FMTTYPE=image/png:https://staging.nyaua.com/wp-content/uploads/2021/01/202101-flyer-header.png
ORGANIZER;CN="New York Section%2C AUA":MAILTO:michele@nysaua.com
END:VEVENT
BEGIN:VEVENT
DTSTART;TZID=America/New_York:20200311T183000
DTEND;TZID=America/New_York:20200311T220000
DTSTAMP:20260419T101400
CREATED:20190819T140806Z
LAST-MODIFIED:20190819T141636Z
UID:10000066-1583951400-1583964000@staging.nyaua.com
SUMMARY:Chief Resident's Debate 2020
DESCRIPTION:THE NEW YORK SECTION\, AUA\, INC.\n\n\nReza Ghavamian\, M.D.\, President\nLane Palmer\, M.D.\, Secretary\n\n\nTHE MICHAEL J. DROLLER\nCHIEF RESIDENTS’ DEBATE MEETING\nWEDNESDAY\, MARCH 11TH\, 2020\n6:30PM \n\n\nAt the New York Academy of Medicine\n1216 Fifth Avenue\, New York City\, NY 10029\n\n\nProgram Chair\nMichael Schwartz\, M.D.\nDept. of Urology\, Northwell Heal\nJudge\nA.Ari Hakimi\, M.D.\nDepartment of Urology\, Memorial Sloan Kettering Cancer Center\n\n\n\nPurchase Ticket Register by Mail/Fax
URL:https://staging.nyaua.com/event/chief-residents-debate-2020
LOCATION:New York Academy of Medicine\, 1216 5th Ave\, New York City\, NY\, 10029\, United States
CATEGORIES:Debate
ORGANIZER;CN="New York Section%2C AUA":MAILTO:michele@nysaua.com
GEO:40.7918853;-73.9525805
X-APPLE-STRUCTURED-LOCATION;VALUE=URI;X-ADDRESS=New York Academy of Medicine 1216 5th Ave New York City NY 10029 United States;X-APPLE-RADIUS=500;X-TITLE=1216 5th Ave:geo:-73.9525805,40.7918853
END:VEVENT
BEGIN:VEVENT
DTSTART;TZID=America/New_York:20180307T183000
DTEND;TZID=America/New_York:20180307T230000
DTSTAMP:20260419T101400
CREATED:20211114T220716Z
LAST-MODIFIED:20211114T220716Z
UID:10000153-1520447400-1520463600@staging.nyaua.com
SUMMARY:Chief Resident's Debate 2018
DESCRIPTION:THE NEW YORK SECTION\, AUA\, INC.\n\n\nMitchell Benson\, M.D.\, President\nVictor Nitti\, M.D.\, Secretary\n\n\nTHE MICHAEL J. DROLLER\nCHIEF RESIDENTS’ DEBATE MEETING\nWEDNESDAY\, MARCH 7TH\, 2018\n6:30PM \n\n\nAt the New York Academy of Medicine\n1216 Fifth Avenue\, New York City\, NY 10029\n\n\nProgram Chair\nGrace Hyun\, M.D.\nDirector\, Pediatric Urology\, NYU Brooklyn\nAssoc. Director\, Pediatric Urology\, NYU Lagon\nJudge\nThomas Guzzo\, M.D.\nChief\, Division of Urology\nUniversity of Pennsylvania Health System\nPhiladelphia\, PA\n\n\nPurchase Ticket Register by Mail/Fax
URL:https://staging.nyaua.com/event/chief-residents-debate-2018-2
LOCATION:New York Academy of Medicine\, 1216 5th Ave\, New York City\, NY\, 10029\, United States
CATEGORIES:Debate
ORGANIZER;CN="New York Section%2C AUA":MAILTO:michele@nysaua.com
GEO:40.7918853;-73.9525805
X-APPLE-STRUCTURED-LOCATION;VALUE=URI;X-ADDRESS=New York Academy of Medicine 1216 5th Ave New York City NY 10029 United States;X-APPLE-RADIUS=500;X-TITLE=1216 5th Ave:geo:-73.9525805,40.7918853
END:VEVENT
BEGIN:VEVENT
DTSTART;TZID=America/New_York:20180307T183000
DTEND;TZID=America/New_York:20180307T230000
DTSTAMP:20260419T101400
CREATED:20180120T054055Z
LAST-MODIFIED:20180120T062126Z
UID:10000059-1520447400-1520463600@staging.nyaua.com
SUMMARY:Chief Resident's Debate 2018
DESCRIPTION:THE NEW YORK SECTION\, AUA\, INC.\n\n\nMitchell Benson\, M.D.\, President\nVictor Nitti\, M.D.\, Secretary\n\n\nTHE MICHAEL J. DROLLER\nCHIEF RESIDENTS’ DEBATE MEETING\nWEDNESDAY\, MARCH 7TH\, 2018\n6:30PM \n\n\nAt the New York Academy of Medicine\n1216 Fifth Avenue\, New York City\, NY 10029\n\n\nProgram Chair\nGrace Hyun\, M.D.\nDirector\, Pediatric Urology\, NYU Brooklyn\nAssoc. Director\, Pediatric Urology\, NYU Lagon\nJudge\nThomas Guzzo\, M.D.\nChief\, Division of Urology\nUniversity of Pennsylvania Health System\nPhiladelphia\, PA\n\n\nPurchase Ticket Register by Mail/Fax
URL:https://staging.nyaua.com/event/chief-residents-debate-2018
LOCATION:New York Academy of Medicine\, 1216 5th Ave\, New York City\, NY\, 10029\, United States
CATEGORIES:Debate
ORGANIZER;CN="New York Section%2C AUA":MAILTO:michele@nysaua.com
GEO:40.7918853;-73.9525805
X-APPLE-STRUCTURED-LOCATION;VALUE=URI;X-ADDRESS=New York Academy of Medicine 1216 5th Ave New York City NY 10029 United States;X-APPLE-RADIUS=500;X-TITLE=1216 5th Ave:geo:-73.9525805,40.7918853
END:VEVENT
BEGIN:VEVENT
DTSTART;TZID=America/New_York:20170315T183000
DTEND;TZID=America/New_York:20170315T230000
DTSTAMP:20260419T101400
CREATED:20211114T220716Z
LAST-MODIFIED:20211114T220716Z
UID:10000151-1489602600-1489618800@staging.nyaua.com
SUMMARY:Chief Resident's Debate 2017
DESCRIPTION:THE NEW YORK SECTION\, AUA\, INC.\n\n\nIvan Grunberger\, M.D.\, President\nJay A. Motola\, M.D.\, Secretary\n\n\nTHE MICHAEL J. DROLLER\nCHIEF RESIDENTS’ DEBATE MEETING\nWEDNESDAY\, MARCH 15TH \, 2017\n6:30PM \n\n\nAt the New York Academy of Medicine\n1216 Fifth Avenue\, New York City\, NY 10029\n\n\nProgram Chair\nOjas Shah\, M.D.\nColumbia University Medical Center\nNew York\, NY\nJudge\nMichael N. Ferrandino\, M.D.\nDuke University Medical Center\nDurham\, NC\n\n\nPurchase Ticket Register by Mail/Fax
URL:https://staging.nyaua.com/event/chief-residents-debate-2017-2
LOCATION:New York Academy of Medicine\, 1216 5th Ave\, New York City\, NY\, 10029\, United States
CATEGORIES:Debate
ORGANIZER;CN="New York Section%2C AUA":MAILTO:michele@nysaua.com
GEO:40.7918853;-73.9525805
X-APPLE-STRUCTURED-LOCATION;VALUE=URI;X-ADDRESS=New York Academy of Medicine 1216 5th Ave New York City NY 10029 United States;X-APPLE-RADIUS=500;X-TITLE=1216 5th Ave:geo:-73.9525805,40.7918853
END:VEVENT
BEGIN:VEVENT
DTSTART;TZID=America/New_York:20170315T183000
DTEND;TZID=America/New_York:20170315T230000
DTSTAMP:20260419T101400
CREATED:20161118T211143Z
LAST-MODIFIED:20161118T231442Z
UID:10000056-1489602600-1489618800@staging.nyaua.com
SUMMARY:Chief Resident's Debate 2017
DESCRIPTION:THE NEW YORK SECTION\, AUA\, INC.\n\n\nIvan Grunberger\, M.D.\, President\nJay A. Motola\, M.D.\, Secretary\n\n\nTHE MICHAEL J. DROLLER\nCHIEF RESIDENTS’ DEBATE MEETING\nWEDNESDAY\, MARCH 15TH \, 2017\n6:30PM \n\n\nAt the New York Academy of Medicine\n1216 Fifth Avenue\, New York City\, NY 10029\n\n\nProgram Chair\nOjas Shah\, M.D.\nColumbia University Medical Center\nNew York\, NY\nJudge\nMichael N. Ferrandino\, M.D.\nDuke University Medical Center\nDurham\, NC\n\n\nPurchase Ticket Register by Mail/Fax
URL:https://staging.nyaua.com/event/chief-residents-debate-2017
LOCATION:New York Academy of Medicine\, 1216 5th Ave\, New York City\, NY\, 10029\, United States
CATEGORIES:Debate
ORGANIZER;CN="New York Section%2C AUA":MAILTO:michele@nysaua.com
GEO:40.7918853;-73.9525805
X-APPLE-STRUCTURED-LOCATION;VALUE=URI;X-ADDRESS=New York Academy of Medicine 1216 5th Ave New York City NY 10029 United States;X-APPLE-RADIUS=500;X-TITLE=1216 5th Ave:geo:-73.9525805,40.7918853
END:VEVENT
BEGIN:VEVENT
DTSTART;TZID=America/New_York:20160309T183000
DTEND;TZID=America/New_York:20160309T183000
DTSTAMP:20260419T101400
CREATED:20211114T220715Z
LAST-MODIFIED:20211114T220715Z
UID:10000144-1457548200-1457548200@staging.nyaua.com
SUMMARY:Chief Resident's Debate 2016
DESCRIPTION:THE NEW YORK SECTION\, AUA\, INC.\n\n\nRobert E. Weiss\, M.D.\, President\nJoy A. Motola\, M.D.\, Secretary\n\n\nTHE RESIDENTS’ DEBATE MEETING\nWEDNESDAY\, MARCH 9TH \, 2016\n6:30PM \n\n\nProgram Chair\nMichael Palese\, M.D.\nMount Sinai Beth Israel\nNew York\, NY\nJudge\nChristian Winters\, M.D.\nOchsner Urology Institute\nNew Orleans\, LA\n\n\n\nPurchase Ticket     Register by Mail/Fax\n\n\n\nReservations must be made prior to March 1st\, 2017. The cost is $100.00 per person. No refunds will be made after March 1st. Please make checks payable to NYSAUA\, mail checks to The New York Section\, AUA\, 4100 Duff Place (Lower Level)\, Seaford\, NY 11783. For more information please call 516-520-1226. I strongly encourage registration via e-mail at Michelelij@aol.com .
URL:https://staging.nyaua.com/event/chief-residents-debate-2016-2
LOCATION:New York Academy of Medicine\, 1216 5th Ave\, New York City\, NY\, 10029\, United States
CATEGORIES:Debate
ORGANIZER;CN="New York Section%2C AUA":MAILTO:michele@nysaua.com
GEO:40.7918853;-73.9525805
X-APPLE-STRUCTURED-LOCATION;VALUE=URI;X-ADDRESS=New York Academy of Medicine 1216 5th Ave New York City NY 10029 United States;X-APPLE-RADIUS=500;X-TITLE=1216 5th Ave:geo:-73.9525805,40.7918853
END:VEVENT
BEGIN:VEVENT
DTSTART;TZID=America/New_York:20160309T183000
DTEND;TZID=America/New_York:20160309T183000
DTSTAMP:20260419T101400
CREATED:20150916T152702Z
LAST-MODIFIED:20161118T230325Z
UID:10000051-1457548200-1457548200@staging.nyaua.com
SUMMARY:Chief Resident's Debate 2016
DESCRIPTION:THE NEW YORK SECTION\, AUA\, INC.\n\n\nRobert E. Weiss\, M.D.\, President\nJoy A. Motola\, M.D.\, Secretary\n\n\nTHE RESIDENTS’ DEBATE MEETING\nWEDNESDAY\, MARCH 9TH \, 2016\n6:30PM \n\n\nProgram Chair\nMichael Palese\, M.D.\nMount Sinai Beth Israel\nNew York\, NY\nJudge\nChristian Winters\, M.D.\nOchsner Urology Institute\nNew Orleans\, LA\n\n\n\nPurchase Ticket     Register by Mail/Fax\n\n\n\nReservations must be made prior to March 1st\, 2017. The cost is $100.00 per person. No refunds will be made after March 1st. Please make checks payable to NYSAUA\, mail checks to The New York Section\, AUA\, 4100 Duff Place (Lower Level)\, Seaford\, NY 11783. For more information please call 516-520-1226. I strongly encourage registration via e-mail at Michelelij@aol.com .
URL:https://staging.nyaua.com/event/chief-residents-debate-2016
LOCATION:New York Academy of Medicine\, 1216 5th Ave\, New York City\, NY\, 10029\, United States
CATEGORIES:Debate
ORGANIZER;CN="New York Section%2C AUA":MAILTO:michele@nysaua.com
GEO:40.7918853;-73.9525805
X-APPLE-STRUCTURED-LOCATION;VALUE=URI;X-ADDRESS=New York Academy of Medicine 1216 5th Ave New York City NY 10029 United States;X-APPLE-RADIUS=500;X-TITLE=1216 5th Ave:geo:-73.9525805,40.7918853
END:VEVENT
BEGIN:VEVENT
DTSTART;VALUE=DATE:20150304
DTEND;VALUE=DATE:20150305
DTSTAMP:20260419T101400
CREATED:20211114T220715Z
LAST-MODIFIED:20211114T220715Z
UID:10000138-1425427200-1425513599@staging.nyaua.com
SUMMARY:Chief Resident's Debate 2015
DESCRIPTION:THE NEW YORK SECTION\, AUA\, INC.\n\n\nFelix Badillo\, M.D.\, President\nIvan Grunberger\, M.D.\, Secretary\n\n\nTHE RESIDENTS’ DEBATE MEETING\nWEDNESDAY\, MARCH 4TH \, 2015\n6:30PM \n\n\nProgram Chair\nELIZABETH KAVALER\, M.D.\nNew York Urology Associates\nNew York\, NY\nJudge\nTHOMAS W. JARRETT\, M.D.\nThe George Washington Univ. School of Med.\nWashington\, D.C\n\n\nPurchase Ticket
URL:https://staging.nyaua.com/event/chief-residents-debate-2015-2
LOCATION:New York Academy of Medicine\, 1216 5th Ave\, New York City\, NY\, 10029\, United States
CATEGORIES:Debate
ORGANIZER;CN="New York Section%2C AUA":MAILTO:michele@nysaua.com
GEO:40.7918853;-73.9525805
X-APPLE-STRUCTURED-LOCATION;VALUE=URI;X-ADDRESS=New York Academy of Medicine 1216 5th Ave New York City NY 10029 United States;X-APPLE-RADIUS=500;X-TITLE=1216 5th Ave:geo:-73.9525805,40.7918853
END:VEVENT
BEGIN:VEVENT
DTSTART;VALUE=DATE:20150304
DTEND;VALUE=DATE:20150305
DTSTAMP:20260419T101400
CREATED:20141008T211737Z
LAST-MODIFIED:20150916T152420Z
UID:10000043-1425427200-1425513599@staging.nyaua.com
SUMMARY:Chief Resident's Debate 2015
DESCRIPTION:THE NEW YORK SECTION\, AUA\, INC.\n\n\nFelix Badillo\, M.D.\, President\nIvan Grunberger\, M.D.\, Secretary\n\n\nTHE RESIDENTS’ DEBATE MEETING\nWEDNESDAY\, MARCH 4TH \, 2015\n6:30PM \n\n\nProgram Chair\nELIZABETH KAVALER\, M.D.\nNew York Urology Associates\nNew York\, NY\nJudge\nTHOMAS W. JARRETT\, M.D.\nThe George Washington Univ. School of Med.\nWashington\, D.C\n\n\nPurchase Ticket
URL:https://staging.nyaua.com/event/chief-residents-debate-2015
LOCATION:New York Academy of Medicine\, 1216 5th Ave\, New York City\, NY\, 10029\, United States
CATEGORIES:Debate
ORGANIZER;CN="New York Section%2C AUA":MAILTO:michele@nysaua.com
GEO:40.7918853;-73.9525805
X-APPLE-STRUCTURED-LOCATION;VALUE=URI;X-ADDRESS=New York Academy of Medicine 1216 5th Ave New York City NY 10029 United States;X-APPLE-RADIUS=500;X-TITLE=1216 5th Ave:geo:-73.9525805,40.7918853
END:VEVENT
BEGIN:VEVENT
DTSTART;VALUE=DATE:20140304
DTEND;VALUE=DATE:20140305
DTSTAMP:20260419T101400
CREATED:20211114T220715Z
LAST-MODIFIED:20211114T220715Z
UID:10000143-1393891200-1393977599@staging.nyaua.com
SUMMARY:Chief Resident's Debate
DESCRIPTION:Chief Resident’s Debate\, NY Academy of Medicine
URL:https://staging.nyaua.com/event/chief-residents-debate-2015-03-05-2/2014-03-04
LOCATION:New York Academy of Medicine\, 1216 5th Ave\, New York City\, NY\, 10029\, United States
CATEGORIES:Debate,Premium
ORGANIZER;CN="New York Section%2C AUA":MAILTO:michele@nysaua.com
GEO:40.7918853;-73.9525805
X-APPLE-STRUCTURED-LOCATION;VALUE=URI;X-ADDRESS=New York Academy of Medicine 1216 5th Ave New York City NY 10029 United States;X-APPLE-RADIUS=500;X-TITLE=1216 5th Ave:geo:-73.9525805,40.7918853
END:VEVENT
BEGIN:VEVENT
DTSTART;VALUE=DATE:20140304
DTEND;VALUE=DATE:20140305
DTSTAMP:20260419T101400
CREATED:20141008T211737Z
LAST-MODIFIED:20141111T163113Z
UID:10000044-1393891200-1393977599@staging.nyaua.com
SUMMARY:Chief Resident's Debate
DESCRIPTION:Chief Resident’s Debate\, NY Academy of Medicine
URL:https://staging.nyaua.com/event/chief-residents-debate-2015-03-05/2014-03-04
LOCATION:New York Academy of Medicine\, 1216 5th Ave\, New York City\, NY\, 10029\, United States
CATEGORIES:Debate,Premium
ORGANIZER;CN="New York Section%2C AUA":MAILTO:michele@nysaua.com
GEO:40.7918853;-73.9525805
X-APPLE-STRUCTURED-LOCATION;VALUE=URI;X-ADDRESS=New York Academy of Medicine 1216 5th Ave New York City NY 10029 United States;X-APPLE-RADIUS=500;X-TITLE=1216 5th Ave:geo:-73.9525805,40.7918853
END:VEVENT
END:VCALENDAR