BEGIN:VCALENDAR
VERSION:2.0
PRODID:-//[STAGING] NYAUA.COM - TEST v002 - ECPv6.15.4//NONSGML v1.0//EN
CALSCALE:GREGORIAN
METHOD:PUBLISH
X-ORIGINAL-URL:https://staging.nyaua.com
X-WR-CALDESC:Events for [STAGING] NYAUA.COM - TEST v002
REFRESH-INTERVAL;VALUE=DURATION:PT1H
X-Robots-Tag:noindex
X-PUBLISHED-TTL:PT1H
BEGIN:VTIMEZONE
TZID:America/New_York
BEGIN:DAYLIGHT
TZOFFSETFROM:-0500
TZOFFSETTO:-0400
TZNAME:EDT
DTSTART:20140309T070000
END:DAYLIGHT
BEGIN:STANDARD
TZOFFSETFROM:-0400
TZOFFSETTO:-0500
TZNAME:EST
DTSTART:20141102T060000
END:STANDARD
BEGIN:DAYLIGHT
TZOFFSETFROM:-0500
TZOFFSETTO:-0400
TZNAME:EDT
DTSTART:20150308T070000
END:DAYLIGHT
BEGIN:STANDARD
TZOFFSETFROM:-0400
TZOFFSETTO:-0500
TZNAME:EST
DTSTART:20151101T060000
END:STANDARD
BEGIN:DAYLIGHT
TZOFFSETFROM:-0500
TZOFFSETTO:-0400
TZNAME:EDT
DTSTART:20160313T070000
END:DAYLIGHT
BEGIN:STANDARD
TZOFFSETFROM:-0400
TZOFFSETTO:-0500
TZNAME:EST
DTSTART:20161106T060000
END:STANDARD
END:VTIMEZONE
BEGIN:VEVENT
DTSTART;TZID=America/New_York:20160309T183000
DTEND;TZID=America/New_York:20160309T183000
DTSTAMP:20260419T114838
CREATED:20150916T152702Z
LAST-MODIFIED:20161118T230325Z
UID:10000051-1457548200-1457548200@staging.nyaua.com
SUMMARY:Chief Resident's Debate 2016
DESCRIPTION:THE NEW YORK SECTION\, AUA\, INC.\n\n\nRobert E. Weiss\, M.D.\, President\nJoy A. Motola\, M.D.\, Secretary\n\n\nTHE RESIDENTS’ DEBATE MEETING\nWEDNESDAY\, MARCH 9TH \, 2016\n6:30PM \n\n\nProgram Chair\nMichael Palese\, M.D.\nMount Sinai Beth Israel\nNew York\, NY\nJudge\nChristian Winters\, M.D.\nOchsner Urology Institute\nNew Orleans\, LA\n\n\n\nPurchase Ticket     Register by Mail/Fax\n\n\n\nReservations must be made prior to March 1st\, 2017. The cost is $100.00 per person. No refunds will be made after March 1st. Please make checks payable to NYSAUA\, mail checks to The New York Section\, AUA\, 4100 Duff Place (Lower Level)\, Seaford\, NY 11783. For more information please call 516-520-1226. I strongly encourage registration via e-mail at Michelelij@aol.com .
URL:https://staging.nyaua.com/event/chief-residents-debate-2016
LOCATION:New York Academy of Medicine\, 1216 5th Ave\, New York City\, NY\, 10029\, United States
CATEGORIES:Debate
ORGANIZER;CN="New York Section%2C AUA":MAILTO:michele@nysaua.com
GEO:40.7918853;-73.9525805
X-APPLE-STRUCTURED-LOCATION;VALUE=URI;X-ADDRESS=New York Academy of Medicine 1216 5th Ave New York City NY 10029 United States;X-APPLE-RADIUS=500;X-TITLE=1216 5th Ave:geo:-73.9525805,40.7918853
END:VEVENT
BEGIN:VEVENT
DTSTART;VALUE=DATE:20150304
DTEND;VALUE=DATE:20150305
DTSTAMP:20260419T114838
CREATED:20211114T220715Z
LAST-MODIFIED:20211114T220715Z
UID:10000138-1425427200-1425513599@staging.nyaua.com
SUMMARY:Chief Resident's Debate 2015
DESCRIPTION:THE NEW YORK SECTION\, AUA\, INC.\n\n\nFelix Badillo\, M.D.\, President\nIvan Grunberger\, M.D.\, Secretary\n\n\nTHE RESIDENTS’ DEBATE MEETING\nWEDNESDAY\, MARCH 4TH \, 2015\n6:30PM \n\n\nProgram Chair\nELIZABETH KAVALER\, M.D.\nNew York Urology Associates\nNew York\, NY\nJudge\nTHOMAS W. JARRETT\, M.D.\nThe George Washington Univ. School of Med.\nWashington\, D.C\n\n\nPurchase Ticket
URL:https://staging.nyaua.com/event/chief-residents-debate-2015-2
LOCATION:New York Academy of Medicine\, 1216 5th Ave\, New York City\, NY\, 10029\, United States
CATEGORIES:Debate
ORGANIZER;CN="New York Section%2C AUA":MAILTO:michele@nysaua.com
GEO:40.7918853;-73.9525805
X-APPLE-STRUCTURED-LOCATION;VALUE=URI;X-ADDRESS=New York Academy of Medicine 1216 5th Ave New York City NY 10029 United States;X-APPLE-RADIUS=500;X-TITLE=1216 5th Ave:geo:-73.9525805,40.7918853
END:VEVENT
BEGIN:VEVENT
DTSTART;VALUE=DATE:20150304
DTEND;VALUE=DATE:20150305
DTSTAMP:20260419T114838
CREATED:20141008T211737Z
LAST-MODIFIED:20150916T152420Z
UID:10000043-1425427200-1425513599@staging.nyaua.com
SUMMARY:Chief Resident's Debate 2015
DESCRIPTION:THE NEW YORK SECTION\, AUA\, INC.\n\n\nFelix Badillo\, M.D.\, President\nIvan Grunberger\, M.D.\, Secretary\n\n\nTHE RESIDENTS’ DEBATE MEETING\nWEDNESDAY\, MARCH 4TH \, 2015\n6:30PM \n\n\nProgram Chair\nELIZABETH KAVALER\, M.D.\nNew York Urology Associates\nNew York\, NY\nJudge\nTHOMAS W. JARRETT\, M.D.\nThe George Washington Univ. School of Med.\nWashington\, D.C\n\n\nPurchase Ticket
URL:https://staging.nyaua.com/event/chief-residents-debate-2015
LOCATION:New York Academy of Medicine\, 1216 5th Ave\, New York City\, NY\, 10029\, United States
CATEGORIES:Debate
ORGANIZER;CN="New York Section%2C AUA":MAILTO:michele@nysaua.com
GEO:40.7918853;-73.9525805
X-APPLE-STRUCTURED-LOCATION;VALUE=URI;X-ADDRESS=New York Academy of Medicine 1216 5th Ave New York City NY 10029 United States;X-APPLE-RADIUS=500;X-TITLE=1216 5th Ave:geo:-73.9525805,40.7918853
END:VEVENT
BEGIN:VEVENT
DTSTART;VALUE=DATE:20140304
DTEND;VALUE=DATE:20140305
DTSTAMP:20260419T114838
CREATED:20211114T220715Z
LAST-MODIFIED:20211114T220715Z
UID:10000143-1393891200-1393977599@staging.nyaua.com
SUMMARY:Chief Resident's Debate
DESCRIPTION:Chief Resident’s Debate\, NY Academy of Medicine
URL:https://staging.nyaua.com/event/chief-residents-debate-2015-03-05-2/2014-03-04
LOCATION:New York Academy of Medicine\, 1216 5th Ave\, New York City\, NY\, 10029\, United States
CATEGORIES:Debate,Premium
ORGANIZER;CN="New York Section%2C AUA":MAILTO:michele@nysaua.com
GEO:40.7918853;-73.9525805
X-APPLE-STRUCTURED-LOCATION;VALUE=URI;X-ADDRESS=New York Academy of Medicine 1216 5th Ave New York City NY 10029 United States;X-APPLE-RADIUS=500;X-TITLE=1216 5th Ave:geo:-73.9525805,40.7918853
END:VEVENT
BEGIN:VEVENT
DTSTART;VALUE=DATE:20140304
DTEND;VALUE=DATE:20140305
DTSTAMP:20260419T114838
CREATED:20141008T211737Z
LAST-MODIFIED:20141111T163113Z
UID:10000044-1393891200-1393977599@staging.nyaua.com
SUMMARY:Chief Resident's Debate
DESCRIPTION:Chief Resident’s Debate\, NY Academy of Medicine
URL:https://staging.nyaua.com/event/chief-residents-debate-2015-03-05/2014-03-04
LOCATION:New York Academy of Medicine\, 1216 5th Ave\, New York City\, NY\, 10029\, United States
CATEGORIES:Debate,Premium
ORGANIZER;CN="New York Section%2C AUA":MAILTO:michele@nysaua.com
GEO:40.7918853;-73.9525805
X-APPLE-STRUCTURED-LOCATION;VALUE=URI;X-ADDRESS=New York Academy of Medicine 1216 5th Ave New York City NY 10029 United States;X-APPLE-RADIUS=500;X-TITLE=1216 5th Ave:geo:-73.9525805,40.7918853
END:VEVENT
END:VCALENDAR