BEGIN:VCALENDAR
VERSION:2.0
PRODID:-//[STAGING] NYAUA.COM - TEST v002 - ECPv6.15.4//NONSGML v1.0//EN
CALSCALE:GREGORIAN
METHOD:PUBLISH
X-ORIGINAL-URL:https://staging.nyaua.com
X-WR-CALDESC:Events for [STAGING] NYAUA.COM - TEST v002
REFRESH-INTERVAL;VALUE=DURATION:PT1H
X-Robots-Tag:noindex
X-PUBLISHED-TTL:PT1H
BEGIN:VTIMEZONE
TZID:America/New_York
BEGIN:DAYLIGHT
TZOFFSETFROM:-0500
TZOFFSETTO:-0400
TZNAME:EDT
DTSTART:20140309T070000
END:DAYLIGHT
BEGIN:STANDARD
TZOFFSETFROM:-0400
TZOFFSETTO:-0500
TZNAME:EST
DTSTART:20141102T060000
END:STANDARD
BEGIN:DAYLIGHT
TZOFFSETFROM:-0500
TZOFFSETTO:-0400
TZNAME:EDT
DTSTART:20150308T070000
END:DAYLIGHT
BEGIN:STANDARD
TZOFFSETFROM:-0400
TZOFFSETTO:-0500
TZNAME:EST
DTSTART:20151101T060000
END:STANDARD
BEGIN:DAYLIGHT
TZOFFSETFROM:-0500
TZOFFSETTO:-0400
TZNAME:EDT
DTSTART:20160313T070000
END:DAYLIGHT
BEGIN:STANDARD
TZOFFSETFROM:-0400
TZOFFSETTO:-0500
TZNAME:EST
DTSTART:20161106T060000
END:STANDARD
BEGIN:DAYLIGHT
TZOFFSETFROM:-0500
TZOFFSETTO:-0400
TZNAME:EDT
DTSTART:20170312T070000
END:DAYLIGHT
BEGIN:STANDARD
TZOFFSETFROM:-0400
TZOFFSETTO:-0500
TZNAME:EST
DTSTART:20171105T060000
END:STANDARD
BEGIN:DAYLIGHT
TZOFFSETFROM:-0500
TZOFFSETTO:-0400
TZNAME:EDT
DTSTART:20180311T070000
END:DAYLIGHT
BEGIN:STANDARD
TZOFFSETFROM:-0400
TZOFFSETTO:-0500
TZNAME:EST
DTSTART:20181104T060000
END:STANDARD
BEGIN:DAYLIGHT
TZOFFSETFROM:-0500
TZOFFSETTO:-0400
TZNAME:EDT
DTSTART:20190310T070000
END:DAYLIGHT
BEGIN:STANDARD
TZOFFSETFROM:-0400
TZOFFSETTO:-0500
TZNAME:EST
DTSTART:20191103T060000
END:STANDARD
BEGIN:DAYLIGHT
TZOFFSETFROM:-0500
TZOFFSETTO:-0400
TZNAME:EDT
DTSTART:20200308T070000
END:DAYLIGHT
BEGIN:STANDARD
TZOFFSETFROM:-0400
TZOFFSETTO:-0500
TZNAME:EST
DTSTART:20201101T060000
END:STANDARD
BEGIN:DAYLIGHT
TZOFFSETFROM:-0500
TZOFFSETTO:-0400
TZNAME:EDT
DTSTART:20210314T070000
END:DAYLIGHT
BEGIN:STANDARD
TZOFFSETFROM:-0400
TZOFFSETTO:-0500
TZNAME:EST
DTSTART:20211107T060000
END:STANDARD
BEGIN:DAYLIGHT
TZOFFSETFROM:-0500
TZOFFSETTO:-0400
TZNAME:EDT
DTSTART:20220313T070000
END:DAYLIGHT
BEGIN:STANDARD
TZOFFSETFROM:-0400
TZOFFSETTO:-0500
TZNAME:EST
DTSTART:20221106T060000
END:STANDARD
BEGIN:DAYLIGHT
TZOFFSETFROM:-0500
TZOFFSETTO:-0400
TZNAME:EDT
DTSTART:20230312T070000
END:DAYLIGHT
BEGIN:STANDARD
TZOFFSETFROM:-0400
TZOFFSETTO:-0500
TZNAME:EST
DTSTART:20231105T060000
END:STANDARD
BEGIN:DAYLIGHT
TZOFFSETFROM:-0500
TZOFFSETTO:-0400
TZNAME:EDT
DTSTART:20240310T070000
END:DAYLIGHT
BEGIN:STANDARD
TZOFFSETFROM:-0400
TZOFFSETTO:-0500
TZNAME:EST
DTSTART:20241103T060000
END:STANDARD
BEGIN:DAYLIGHT
TZOFFSETFROM:-0500
TZOFFSETTO:-0400
TZNAME:EDT
DTSTART:20250309T070000
END:DAYLIGHT
BEGIN:STANDARD
TZOFFSETFROM:-0400
TZOFFSETTO:-0500
TZNAME:EST
DTSTART:20251102T060000
END:STANDARD
END:VTIMEZONE
BEGIN:VEVENT
DTSTART;TZID=America/New_York:20250327T190000
DTEND;TZID=America/New_York:20250327T230000
DTSTAMP:20260419T092308
CREATED:20241227T204020Z
LAST-MODIFIED:20250225T221145Z
UID:10000196-1743102000-1743116400@staging.nyaua.com
SUMMARY:Battle of the Bands: Docs that Rock
DESCRIPTION:Featuring:\n\n\n\n\n\n\n\n\n \n\n\nArrhythmics\n•\nCleans Catch & Co\n•\nLive Stream\n•\nSecond Opinion\n\n\n\n  \nIf you would prefer to register via mail\, please download and email the completed form to Michele Paoli \nDownload: Battle of the Bands: Docs that Rock PDF \n 
URL:https://staging.nyaua.com/event/docs-that-rock
LOCATION:Downtown Social\, 149 2nd Ave\, New York\, NY\, 10003\, United States
CATEGORIES:Premium
ATTACH;FMTTYPE=image/jpeg:https://staging.nyaua.com/wp-content/uploads/2024/12/EventBrite_Header_Images2.jpg
ORGANIZER;CN="New York Section%2C AUA":MAILTO:michele@nysaua.com
END:VEVENT
BEGIN:VEVENT
DTSTART;VALUE=DATE:20140304
DTEND;VALUE=DATE:20140305
DTSTAMP:20260419T092308
CREATED:20211114T220715Z
LAST-MODIFIED:20211114T220715Z
UID:10000143-1393891200-1393977599@staging.nyaua.com
SUMMARY:Chief Resident's Debate
DESCRIPTION:Chief Resident’s Debate\, NY Academy of Medicine
URL:https://staging.nyaua.com/event/chief-residents-debate-2015-03-05-2/2014-03-04
LOCATION:New York Academy of Medicine\, 1216 5th Ave\, New York City\, NY\, 10029\, United States
CATEGORIES:Debate,Premium
ORGANIZER;CN="New York Section%2C AUA":MAILTO:michele@nysaua.com
GEO:40.7918853;-73.9525805
X-APPLE-STRUCTURED-LOCATION;VALUE=URI;X-ADDRESS=New York Academy of Medicine 1216 5th Ave New York City NY 10029 United States;X-APPLE-RADIUS=500;X-TITLE=1216 5th Ave:geo:-73.9525805,40.7918853
END:VEVENT
BEGIN:VEVENT
DTSTART;VALUE=DATE:20140304
DTEND;VALUE=DATE:20140305
DTSTAMP:20260419T092308
CREATED:20141008T211737Z
LAST-MODIFIED:20141111T163113Z
UID:10000044-1393891200-1393977599@staging.nyaua.com
SUMMARY:Chief Resident's Debate
DESCRIPTION:Chief Resident’s Debate\, NY Academy of Medicine
URL:https://staging.nyaua.com/event/chief-residents-debate-2015-03-05/2014-03-04
LOCATION:New York Academy of Medicine\, 1216 5th Ave\, New York City\, NY\, 10029\, United States
CATEGORIES:Debate,Premium
ORGANIZER;CN="New York Section%2C AUA":MAILTO:michele@nysaua.com
GEO:40.7918853;-73.9525805
X-APPLE-STRUCTURED-LOCATION;VALUE=URI;X-ADDRESS=New York Academy of Medicine 1216 5th Ave New York City NY 10029 United States;X-APPLE-RADIUS=500;X-TITLE=1216 5th Ave:geo:-73.9525805,40.7918853
END:VEVENT
END:VCALENDAR