BEGIN:VCALENDAR
VERSION:2.0
PRODID:-//[STAGING] NYAUA.COM - TEST v002 - ECPv6.15.4//NONSGML v1.0//EN
CALSCALE:GREGORIAN
METHOD:PUBLISH
X-ORIGINAL-URL:https://staging.nyaua.com
X-WR-CALDESC:Events for [STAGING] NYAUA.COM - TEST v002
REFRESH-INTERVAL;VALUE=DURATION:PT1H
X-Robots-Tag:noindex
X-PUBLISHED-TTL:PT1H
BEGIN:VTIMEZONE
TZID:America/New_York
BEGIN:DAYLIGHT
TZOFFSETFROM:-0500
TZOFFSETTO:-0400
TZNAME:EDT
DTSTART:20240310T070000
END:DAYLIGHT
BEGIN:STANDARD
TZOFFSETFROM:-0400
TZOFFSETTO:-0500
TZNAME:EST
DTSTART:20241103T060000
END:STANDARD
END:VTIMEZONE
BEGIN:VEVENT
DTSTART;VALUE=DATE:20241110
DTEND;VALUE=DATE:20241117
DTSTAMP:20260421T084907
CREATED:20240125T205208Z
LAST-MODIFIED:20240125T210012Z
UID:10000159-1731196800-1731801599@staging.nyaua.com
SUMMARY:120th New York Section AUA Annual Meeting
DESCRIPTION:  \nThe New York Section\, AUA Presents:\nThe 120th Annual Meeting \nMarrakech\, Morocco\n\nNovember 10th – November 16th\, 2024\n  \nRegister Now! \nFor more information\, visit our online Conference Information page.
URL:https://staging.nyaua.com/event/120th-annual-meeting-copy
LOCATION:Marrakech\, Morocco\, BP 2470 Km 12 route d’Amizmiz\, Marrakech\, Morocco
CATEGORIES:Meeting
ORGANIZER;CN="New York Section%2C AUA":MAILTO:michele@nysaua.com
END:VEVENT
END:VCALENDAR